BEGIN:VCALENDAR
VERSION:2.0
PRODID:icalendar-ruby
CALSCALE:GREGORIAN
BEGIN:VEVENT
DTSTAMP:20260423T222022Z
UID:8fb17131-5876-43bc-826e-2dadb71c3a03
DTSTART:20260606T100000
DTEND:20260606T160000
DESCRIPTION:Standgebühr sind 5\,00 € ( max. 5 Meter)\nVerkaufen dürfen 
 nur Privatverkäufer.\nDer Aufbau kann ab 7.00 Uhr erfolgen\nAnmeldungen b
 itte bis zum 05.06.2026 unter 0176/65534708 oder flohmarkt_Sportplatz_fsg@
 t-online.de\nFür das leibliche Wohl wird mit Kaffee &amp\; Kuchen gesorgt
 . Kuchenspenden erwünscht\,\nfür den größeren Hunger wird gegrillt.
LOCATION:Berliner Ring 114 64625 
SUMMARY:Flohmarkt für Privatverkäufer
END:VEVENT
END:VCALENDAR
