BEGIN:VCALENDAR
VERSION:2.0
PRODID:icalendar-ruby
CALSCALE:GREGORIAN
BEGIN:VEVENT
DTSTAMP:20260425T020758Z
UID:0bc0f384-6fc8-4354-af46-3edb852aab5e
DTSTART:20260503T140000
DTEND:20260503T180000
DESCRIPTION:Flohmarktine Frauenflohmarkt\, das nachhaltige Shoppingevent am
  verkaufsoffenen Sonntag in der Kultura in Öhringen!🛍️🌿 Du liebst
  Kleidung\, Vintage &amp\; Accessoires? Bei uns gibt es alles\, was dein F
 rauenherz begehrt!🫶\n📍Kultura Öhringen (Herrenwiesenstraße 12\, 74
 613 Öhringen)🎫 4€ Eintritt (Kinder unter 12 Jahren frei)💃 Umkleid
 ekabine &amp\; Spiegel vorhanden\nAls Besucher*in ist keine Voranmeldung n
 otwendig und du kannst für das nachhaltige Shoppingerlebnis einfach vorbe
 ikommen! Tickets gibt es nur vor Ort!🎫🤍\nDie Anmeldung und alle Info
 s zu unserem Mädchenflohmarkt findest du auf unserer Website!🧐https://
 www.flohmarktine-frauenflohmarkt.de
LOCATION:Herrenwiesenstraße 12 74613 
SUMMARY:Flohmarktine Frauenflohmarkt Öhringen
END:VEVENT
END:VCALENDAR
