BEGIN:VCALENDAR
VERSION:2.0
PRODID:icalendar-ruby
CALSCALE:GREGORIAN
BEGIN:VEVENT
DTSTAMP:20260425T013641Z
UID:f5979f8f-5666-4a7b-b17a-a2bd29f50551
DTSTART:20260508T170000
DTEND:20260508T210000
DESCRIPTION:Flohmarktine Frauenflohmarkt\, das große nachhaltige Shoppinge
 vent in der Friday Night Shopping Variante im Bürgermeister-Pohl-Haus in 
 Darmstadt-Wixhausen!🛍️🌿 Du liebst Kleidung\, Vintage &amp\; Access
 oires? Bei uns gibt es alles\, was dein Frauenherz begehrt!🫶\n📍 Bür
 germeister-Pohl-Haus (Im Appensee 26\, 64291 Darmstadt)🎫 4€ Eintritt 
 (Kinder unter 12 Jahren frei)💃 Spiegel &amp\; Umkleide vorhanden\nAls B
 esucher*in ist keine Voranmeldung notwendig und du kannst für das nachhal
 tige Shoppingerlebnis einfach vorbeikommen! Tickets gibt es nur vor Ort!
 🎫🤍\nDie Anmeldung und alle Infos zu unserem Mädchenflohmarkt findes
 t du auf unserer Website!🧐https://www.flohmarktine-frauenflohmarkt.de
LOCATION:Im Appensee 26 64291 Wixhausen
SUMMARY:Flohmarktine Frauenflohmarkt Darmstadt
END:VEVENT
END:VCALENDAR
