BEGIN:VCALENDAR
VERSION:2.0
PRODID:icalendar-ruby
CALSCALE:GREGORIAN
BEGIN:VEVENT
DTSTAMP:20260425T013642Z
UID:13a0aa36-7922-4368-916a-da27dc1c551a
DTSTART:20260509T140000
DTEND:20260509T180000
DESCRIPTION:Flohmarktine Frauenflohmarkt\, das größte nachhaltige Shoppin
 gevent der Region auf über 1000qm in der Messe in Offenburg!🛍️🌿 D
 u liebst Kleidung\, Vintage &amp\; Accessoires? Bei uns gibt es alles\, wa
 s dein Frauenherz begehrt!🫶\n📍 Messe Offenburg (Schutterwälder Str.
  3 in 77656 Offenburg)🎫 4€ Eintritt (Kinder unter 12 Jahren frei)💃
  Umkleidekabine &amp\; Spiegel vorhanden\nAls Besucher*in ist keine Voranm
 eldung notwendig und du kannst für das nachhaltige Shoppingerlebnis einfa
 ch vorbeikommen! Tickets gibt es nur vor Ort!🎫🤍\nDie Anmeldung und a
 lle Infos zu unserem Mädchenflohmarkt findest du auf unserer Website!🧐
 https://www.flohmarktine-frauenflohmarkt.de
LOCATION:Schutterwälder Straße 3 77656 
SUMMARY:Flohmarktine Frauenflohmarkt Offenburg
END:VEVENT
END:VCALENDAR
