BEGIN:VCALENDAR
VERSION:2.0
PRODID:icalendar-ruby
CALSCALE:GREGORIAN
BEGIN:VEVENT
DTSTAMP:20260425T013515Z
UID:c5d929f0-5aa3-47ff-b285-568dc224d577
DTSTART:20260509T120000
DTEND:20260509T160000
DESCRIPTION:Flohmarktine Frauenflohmarkt\, das nachhaltige Shoppingevent in
  der Dr.-Sieber-Halle in Sinsheim!🛍️🌿 Du liebst Kleidung\, Vintage
  &amp\; Accessoires? Bei uns gibt es alles\, was dein Frauenherz begehrt!
 🫶\n📍 Dr.-Sieber-Halle (Friedrichstraße 17\, 74889 Sinsheim)🎫 4
 € Eintritt (Kinder unter 12 Jahren frei)💃 Umkleidekabine &amp\; Spieg
 el vorhanden☕️🍰🍾🍹 Bewirtung mit Kuchen\, Brezeln\, Kaffee\, A
 perol &amp\; Weinschorline🅿️ günstiges Parkhaus (bis 12 Uhr frei\, d
 anach 50ct pro 30 min)\nAls Besucher*in ist keine Voranmeldung notwendig u
 nd du kannst für das nachhaltige Shoppingerlebnis einfach vorbeikommen! T
 ickets gibt es nur vor Ort!🎫🤍\nDie Anmeldung und alle Infos zu unser
 em Mädchenflohmarkt findest du auf unserer Website!🧐https://www.flohma
 rktine-frauenflohmarkt.de
LOCATION:Friedrichstraße 17 74889 
SUMMARY:Flohmarktine Frauenflohmarkt Sinsheim
END:VEVENT
END:VCALENDAR
