BEGIN:VCALENDAR
VERSION:2.0
PRODID:icalendar-ruby
CALSCALE:GREGORIAN
BEGIN:VEVENT
DTSTAMP:20260425T012037Z
UID:09f76b2b-67ae-4d71-a243-4b44300d67b4
DTSTART:20260510T140000
DTEND:20260510T180000
DESCRIPTION:Flohmarktine Frauenflohmarkt\, das nachhaltige Shoppingevent in
  der Alten Mälzerei in Mosbach!🛍️🌿 Du liebst Kleidung\, Vintage &
 amp\; Accessoires? Bei uns gibt es alles\, was dein Frauenherz begehrt!
 🫶\n📍 Alte Mälzerei (Alte Bergsteige 7\, 74821 Mosbach)🎫 3€ Ein
 tritt (Kinder unter 12 Jahren frei)💃 Spiegel vorhanden\nAls Besucher*in
  ist keine Voranmeldung notwendig und du kannst für das nachhaltige Shopp
 ingerlebnis einfach vorbeikommen! Tickets gibt es nur vor Ort!🎫🤍\nDi
 e Anmeldung und alle Infos zu unserem Mädchenflohmarkt findest du auf uns
 erer Website!🧐https://www.flohmarktine-frauenflohmarkt.de
LOCATION:Alte Bergsteige 7 74821 
SUMMARY:Flohmarktine Frauenflohmarkt Mosbach
END:VEVENT
END:VCALENDAR
