BEGIN:VCALENDAR
VERSION:2.0
PRODID:icalendar-ruby
CALSCALE:GREGORIAN
BEGIN:VEVENT
DTSTAMP:20260425T012037Z
UID:c1121601-e8ca-426b-83da-59c26df7a3a5
DTSTART:20260515T170000
DTEND:20260515T210000
DESCRIPTION:Flohmarktine Frauenflohmarkt\, das nachhaltige Shoppingevent in
  der Friday Night Shopping Variante in der Carl Benz Arena in Stuttgart!
 🛍️🌿 Du liebst Kleidung\, Vintage &amp\; Accessoires? Bei uns gibt 
 es alles\, was dein Frauenherz begehrt!🫶\n📍 Carl Benz Arena Stuttgar
 t (Mercedesstraße 73D\, 70372 Stuttgart)🎫 5€ Eintritt (Kinder unter 
 12 Jahren frei)💃 Umkleidekabine mit Spiegeln\nAls Besucher*in ist keine
  Voranmeldung notwendig und du kannst für das nachhaltige Shoppingerlebni
 s einfach vorbeikommen! Tickets gibt es nur vor Ort!🎫🤍\nDie Anmeldun
 g und alle Infos zu unserem Mädchenflohmarkt findest du auf unserer Websi
 te!🧐https://www.flohmarktine-frauenflohmarkt.de
LOCATION:Mercedesstraße 73D 70372 Bad Cannstatt
SUMMARY:Flohmarktine Frauenflohmarkt Stuttgart
END:VEVENT
END:VCALENDAR
