BEGIN:VCALENDAR
VERSION:2.0
PRODID:icalendar-ruby
CALSCALE:GREGORIAN
BEGIN:VEVENT
DTSTAMP:20260425T035446Z
UID:d3a14e07-3daf-45e7-8bb6-5986e5ad2403
DTSTART:20260523T160000
DTEND:20260523T200000
DESCRIPTION:Flohmarktine Frauenflohmarkt\, das nachhaltige Shoppingevent in
  der Meistersingerhalle in Nürnberg!🛍️🌿 Du liebst Kleidung\, Vint
 age &amp\; Accessoires? Bei uns gibt es alles\, was dein Frauenherz begehr
 t!🫶\n📍 Meistersingerhalle Nürnberg (Münchener Str. 19\, 90478 Nür
 nberg)🎫 4€ Eintritt (Kinder unter 12 Jahren frei)💃 Umkleidekabine 
 &amp\; Spiegel vorhanden\nAls Besucher*in ist keine Voranmeldung notwendig
  und du kannst für das nachhaltige Shoppingerlebnis einfach vorbeikommen!
  Tickets gibt es nur vor Ort!🎫🤍\nDie Anmeldung und alle Infos zu uns
 erem Mädchenflohmarkt findest du auf unserer Website!🧐https://www.floh
 marktine-frauenflohmarkt.de
LOCATION:Münchener Straße 19 90478 Mitte
SUMMARY:Flohmarktine Frauenflohmarkt Nürnberg
END:VEVENT
END:VCALENDAR
