BEGIN:VCALENDAR
VERSION:2.0
PRODID:icalendar-ruby
CALSCALE:GREGORIAN
BEGIN:VEVENT
DTSTAMP:20260420T172958Z
UID:ca36b4b1-1436-4857-8fd5-d3b87beb9de5
DTSTART:20260514T110000
DTEND:20260514T160000
DESCRIPTION:Infos unter www.richter-troedelmaerkte.de oder 02843/9036903
LOCATION: Bahnhofstraße 47447 Moers-Kapellen
SUMMARY:Parkplatz EDEKA
END:VEVENT
END:VCALENDAR
