BEGIN:VCALENDAR
VERSION:2.0
PRODID:icalendar-ruby
CALSCALE:GREGORIAN
BEGIN:VEVENT
DTSTAMP:20260420T155032Z
UID:361b65a2-305f-47d0-a8d5-dc8f1bd7e995
DTSTART:20260823T110000
DTEND:20260823T160000
DESCRIPTION:Infos unter www.richter-troedelmaerkte.de oder 02843/9036903
LOCATION: Bahnhofstraße 47447 Moers-Kapellen
SUMMARY:Parkplatz EDEKA
END:VEVENT
END:VCALENDAR
