BEGIN:VCALENDAR
VERSION:2.0
PRODID:icalendar-ruby
CALSCALE:GREGORIAN
BEGIN:VEVENT
DTSTAMP:20260424T185758Z
UID:6893fecb-946b-49b0-ada0-8e806763ea90
DTSTART:20260514T060000
DTEND:20260514T150000
DESCRIPTION:Achtung 14.05.2026 zum Puppenfestival  von 6.00 bis 15.00 Uhr
   \nAchtung kein Stand ab Bau mehr vor 15.00 erlaubt \nwieder mit Antik
  und Sammler Markt im Steinweg\, Marktplatz\,   und Georglangbeinstr. He
 ubischerstr.\nHier nur für Sammlersachen und Antikes\, \nfür private Hä
 ndler so wie gewerbliche Händler \,\nauch hier Keine Neuware erlaubt\, Au
 fbau ab 5 Uhr \,pro laufender Meter 25\,- Euro. Auto am Stand Nur Marktpla
 tz  möglich mit Reservierung Möglich Auto am Stand 20\,- Euro extra. \
 nRegenschutz erlaubt.Bitte um frühzeitige Anmeldung. Platzreservierung nu
 r mit schriftlicher Anmeldung\,\nVorkasse Standmiete.\nBei Marktveranstalt
 er: Kai Freyer \, Körnerstrasse 8\, 96465 Neustadt/Cbg. Tel : 0171 / 1208
 564\nAnmelde Formular für diesen Markt Unter kaifreyer@necnet.de \nFür 
 Sammler und Liebhaber von Puppen\,\nTeddybären\, Hummelfiguren\,\nMiniatu
 ren\, Christbaumschmuck\, \nEisenbahnen\, Blechspielzeug\nund Elastolin - 
 Figuren\, und vieles mehr.\nNeu: kaifreyer@necnet.de\nFlohmarkt in der Kir
 chstrasse\, Wilhelmstrasse\, Augustastrasse\, und Glockenberg \nnur für 
 normale Flohmarkt Sachen und Haushaltswaren\,  \n1 Meter 10\,- Euro \, A
 uto am Stand nicht möglich 
LOCATION:Marktplatz  96465 
SUMMARY:Sammlermarkt zum Puppenfestival 2026 Marktplatz und Seitenstraßen 
END:VEVENT
END:VCALENDAR
