BEGIN:VCALENDAR
VERSION:2.0
PRODID:icalendar-ruby
CALSCALE:GREGORIAN
BEGIN:VEVENT
DTSTAMP:20260424T113216Z
UID:25f12938-fc6d-4019-ab6d-750b414f56cd
DTSTART:20260524T060000
DTEND:20260524T150000
DESCRIPTION:Der größte Flohmarkt in Schleswig-Holstein und Publikumsmagne
 t seit über 40 Jahren!\nLaufender Meter Trödel-/ Gebrauchtware EUR 11\,0
 0. Bei Standplätzen „ohne Kfz am Stand“ gilt eine Mindestabnahme von 
 drei lfd. Meter (Tapeziertischlänge) – bei Standplätzen „mit Kfz am 
 Stand“ gilt eine Mindestabnahme von fünf lfd. Meter bzw. die tatsächli
 che Kfz-Länge auf volle Meter aufgerundet. Standtiefen: "ohne Kfz am Stan
 d" maximal zwei Meter - "mit Kfz am Stand" maximal vier Meter einschliessl
 ich Kfz. Größere Standtiefen sind nur mit vorheriger Absprache und nur g
 egen Aufpreis möglich\nKinderdecken (max. 1\,5 x 1\,5 m) ausschliesslich 
 mit Kindersachen (keine Neu-/ Trödel- oder Haushaltsware) sind auch koste
 npflichtig - es besteht kein Anspruch auf eine kostenfreie Zuweisung.\nAuf
 preis für Neu- und Retourware Euro 4\,00 pro lfd. Meter\nNeu-Textilien + 
 -Lederwaren (gewerbliche Anbieter) lfd. Meter 20\,00 EUR (die Mindestabnah
 me von 10 lfdm. gilt nur für gewerbliche Anbieter!)\nSpezialisten-\, Prom
 otion-\, NEU-Textil- und Lederwaren-\, Lebensmittel- und Gastrostände wer
 den nur mit vorheriger Absprache und schriftlicher Genehmigung vergeben!\n
 Weitere Informationen zu unseren Flohmärkten - Termine\, Standpreise\, Au
 fbauzeiten und Reservierungsmöglichkeiten - finden Sie auf unserer Intern
 etseite www.Nord-Flohmarkt.de.\nDas Formular "Kontakt &amp\; Buchungsanfra
 ge" auf dieser Internetseite (Marktcom.de) ist lediglich eine Anfrage an u
 ns und stellt keine Reservierung dar!
LOCATION:Justus-von-Liebig-Straße 2 24537 
SUMMARY:Riesen-Pfingst-Flohmarkt auf dem Holstenhallen-Aussengelände
END:VEVENT
END:VCALENDAR
