BEGIN:VCALENDAR
VERSION:2.0
PRODID:icalendar-ruby
CALSCALE:GREGORIAN
BEGIN:VEVENT
DTSTAMP:20260421T174051Z
UID:fe7839e3-459a-4f7d-95d2-6e6b084eaf2c
DTSTART:20260822T060000
DTEND:20260822T160000
DESCRIPTION:...der legendäre Mainwiesenflohmarkt geht auch diesen Sommer w
 ieder Mal Tage lang!!!\nFR 21.08. &amp\; SA 22.08.2026\nAbendflohmarkt &am
 p\; Tagesflohmarkt auf der Mainwiese mit über 300 Ständen\n \nStandgeb
 ühr:\nTrödel:1 Tag:8\,00 € lfd. Meter oder 2 Tage: 13\,00 € lfd. Met
 er (21. &amp\; 22.08.2026)\nNeuware: 1 Tag:12\,00€ lfd. Meter oder 2 Tag
 e: 17 € lfd. Meter (21. &amp\; 22.08.2026)\nFahrzeug am Stand : 4\,00 
 €\nDie Mindeststandgröße beträgt 3 Meter! (für Wohnmobile 5 Meter)\n
 - Zufahrt für Standbetreiber üner die Mainaustraße\n- Einfahrt am Freit
 ag ab 10 Uhr oder Samstag ab 06 Uhr\n- Verkaufszeiten: Freitag 17 bis 21 U
 hr Samstag 6-16 Uhr\n- keine Anmeldung\, einfach vorbei kommen\n- Kinder b
 is 14 Jahren haben einen eigenen\, seperaten Stand bis 2 Meter frei(aussch
 ließlich mit Kinderspielsachen)\n- eine Rückerstattung der Standgebühre
 n ist ausgeschlossen\n[nbsp]\nFLOHMARKT INFO NUR UNTER 06239-4469 ( Rund u
 m die Uhr )\n[nbsp]\n[nbsp]\nEs gelten immer die aktuellen Informationen u
 nserer eigenen Homepage www.alpha-team-noll.de\n 
LOCATION:Mainaustraße  97082 Zellerau
SUMMARY:Trödelmarkt MAINWIESE 2 Tage siehe Lageplan
END:VEVENT
END:VCALENDAR
