BEGIN:VCALENDAR
VERSION:2.0
PRODID:icalendar-ruby
CALSCALE:GREGORIAN
BEGIN:VEVENT
DTSTAMP:20260424T014049Z
UID:a858c8f3-dcfe-4adc-9861-65a23619890c
DTSTART:20260501T060000
DTEND:20260501T150000
DESCRIPTION:Der größte Flohmarkt im Kreis Pinneberg - bei Ausstellern + B
 esuchern absolut beliebt!\nLaufender Meter Trödel-/ Gebrauchtware (nicht 
 überdacht) EUR 11\,00. Bei Standplätzen „ohne Kfz am Stand“ gilt ein
 e Mindestabnahme von drei lfd. Meter (Tapeziertischlänge) – bei Standpl
 ätzen „mit Kfz am Stand“ gilt eine Mindestabnahme von fünf lfd. Mete
 r bzw. die tatsächliche Kfz-Länge auf volle Meter aufgerundet. Standtief
 en: "ohne Kfz am Stand" maximal zwei Meter - "mit Kfz am Stand" maximal vi
 er Meter einschliesslich Kfz. Größere Standtiefen sind nur mit vorherige
 r Absprache und nur gegen Aufpreis möglich\nKinderdecken (max. 1\,5 x 1\,
 5 m) ausschliesslich mit Kindersachen (keine Neu-/ Trödel- oder Haushalts
 ware) sind auch kostenpflichtig - es besteht kein Anspruch auf eine kosten
 freie Zuweisung.\nAufpreis für Neu- und Retourware Euro 4\,00 pro lfd. Me
 ter\nNeu-Textilien + -Lederwaren (gewerbliche Anbieter) lfd. Meter 20\,00 
 EUR (die Mindestabnahme von 10 lfdm. gilt nur für gewerbliche Anbieter!)\
 nSpezialisten-\, Promotion-\, NEU-Textil- und Lederwaren-\, Lebensmittel- 
 und Gastrostände werden nur mit vorheriger Absprache und schriftlicher Ge
 nehmigung vergeben!\nWeitere Informationen zu unseren Flohmärkten - Termi
 ne\, Standpreise\, Aufbauzeiten und Reservierungsmöglichkeiten - finden S
 ie auf unserer Internetseite www.Nord-Flohmarkt.de.\nDas Formular "Kontakt
  &amp\; Buchungsanfrage" auf dieser Internetseite (Marktcom.de) ist ledigl
 ich eine Anfrage an uns und stellt keine Reservierung dar!
LOCATION:Peiner Hag 1 25497 Prisdorf
SUMMARY:Flohmarkt beim MARKTKAUF-Center in Prisdorf
END:VEVENT
END:VCALENDAR
