BEGIN:VCALENDAR
VERSION:2.0
PRODID:icalendar-ruby
CALSCALE:GREGORIAN
BEGIN:VEVENT
DTSTAMP:20260420T140904Z
UID:b0a0bde1-abaf-4351-984b-e7714872c5ba
DTSTART:20261024T060000
DTEND:20261024T150000
DESCRIPTION:Stadtflohmarkt auf der Mainwiese ohne NEUWARE mit über 300 St
 änden\nFloh- und Trödelmarkt  nur mit Gebrauchtwaren - keine Neuware -\
 nStandgebühr: 5\,00€ Trödel\nMINDESTSTANDGRÖSSE: 3 METER (Wohnmobile 
 5 METER)\nFahrzeug am Stand: 4\,00 €\nBei Anreise / Anfahrt bereits am F
 reitag wird die Standgebühr bereits am Freitag kassiert.\nVERKAUF nur am 
 Samstag!\nVerbindliche Platzreservierung ist nur bei Aufbau bzw Fahrzeug a
 m Stand und Bezahlung der Standgebühr am Freitag zwischen 11 - 20 Uhr mö
 glich. +++\nAbsperrungen/Markierungen sind untersagt und werden entfernt. 
 Nur am Freitag bereits bei der Marktleitung bezahlte Standflächen sind ve
 rbindliche Reservierungen.\nKinder bis 14 Jahre haben einen eigenen\, sepa
 raten Stand bis 2 Metern ausschließlich mit Kinderspielsachen frei!\nEine
  Rückerstattung der Standgebühren ist ausgeschlossen.\nEs gelten immer d
 ie aktuellen Informationen unserer eigenen Homepage www.alpha-team-noll.de
 \n \nKEINE NEUWARE ERLAUBT !!!!
LOCATION:Dreikronenstraße 2 97082 Altstadt
SUMMARY:MAINWIESE  Stadtflohmarkt siehe Lageplan
END:VEVENT
END:VCALENDAR
